BEGIN:VCALENDAR
VERSION:2.0
PRODID:-//Villa Rica Community Church - ECPv6.15.17.1//NONSGML v1.0//EN
CALSCALE:GREGORIAN
METHOD:PUBLISH
X-WR-CALNAME:Villa Rica Community Church
X-ORIGINAL-URL:https://www.villaricacc.org
X-WR-CALDESC:Events for Villa Rica Community Church
REFRESH-INTERVAL;VALUE=DURATION:PT1H
X-Robots-Tag:noindex
X-PUBLISHED-TTL:PT1H
BEGIN:VTIMEZONE
TZID:America/New_York
BEGIN:DAYLIGHT
TZOFFSETFROM:-0500
TZOFFSETTO:-0400
TZNAME:EDT
DTSTART:20230312T070000
END:DAYLIGHT
BEGIN:STANDARD
TZOFFSETFROM:-0400
TZOFFSETTO:-0500
TZNAME:EST
DTSTART:20231105T060000
END:STANDARD
BEGIN:DAYLIGHT
TZOFFSETFROM:-0500
TZOFFSETTO:-0400
TZNAME:EDT
DTSTART:20240310T070000
END:DAYLIGHT
BEGIN:STANDARD
TZOFFSETFROM:-0400
TZOFFSETTO:-0500
TZNAME:EST
DTSTART:20241103T060000
END:STANDARD
BEGIN:DAYLIGHT
TZOFFSETFROM:-0500
TZOFFSETTO:-0400
TZNAME:EDT
DTSTART:20250309T070000
END:DAYLIGHT
BEGIN:STANDARD
TZOFFSETFROM:-0400
TZOFFSETTO:-0500
TZNAME:EST
DTSTART:20251102T060000
END:STANDARD
END:VTIMEZONE
BEGIN:VEVENT
DTSTART;TZID=America/New_York:20240602T103000
DTEND;TZID=America/New_York:20240602T113000
DTSTAMP:20260421T041920
CREATED:20240512T001839Z
LAST-MODIFIED:20240512T001839Z
UID:4704-1717324200-1717327800@www.villaricacc.org
SUMMARY:Children’s Ministy
DESCRIPTION:Children’s Ministy\nNursery-5th Grade
URL:https://www.villaricacc.org/calendar/childrens-ministy-59/
LOCATION:Childrens Area
CATEGORIES:All,Children,Youth
ATTACH;FMTTYPE=image/jpeg:https://www.villaricacc.org/wp-content/uploads/2014/06/412logo_373_300.jpg
END:VEVENT
BEGIN:VEVENT
DTSTART;TZID=America/New_York:20240605T183000
DTEND;TZID=America/New_York:20240605T193000
DTSTAMP:20260421T041920
CREATED:20240304T154502Z
LAST-MODIFIED:20240304T154502Z
UID:4631-1717612200-1717615800@www.villaricacc.org
SUMMARY:Wednesday Night Fellowship Dinner
DESCRIPTION:Fellowship Dinner TBD
URL:https://www.villaricacc.org/calendar/wednesday-night-fellowship-dinner-11/
LOCATION:Fellowship Hall
CATEGORIES:Adult,All,Children,Men,Women,Youth
END:VEVENT
BEGIN:VEVENT
DTSTART;TZID=America/New_York:20240609T103000
DTEND;TZID=America/New_York:20240609T113000
DTSTAMP:20260421T041920
CREATED:20240526T202934Z
LAST-MODIFIED:20240526T202934Z
UID:4725-1717929000-1717932600@www.villaricacc.org
SUMMARY:Children’s Ministy
DESCRIPTION:Children’s Ministy\nNursery-5th Grade
URL:https://www.villaricacc.org/calendar/childrens-ministy-60/
LOCATION:Childrens Area
CATEGORIES:All,Children,Youth
ATTACH;FMTTYPE=image/jpeg:https://www.villaricacc.org/wp-content/uploads/2014/06/412logo_373_300.jpg
END:VEVENT
BEGIN:VEVENT
DTSTART;TZID=America/New_York:20240616T103000
DTEND;TZID=America/New_York:20240616T113000
DTSTAMP:20260421T041920
CREATED:20240526T202949Z
LAST-MODIFIED:20240526T202949Z
UID:4727-1718533800-1718537400@www.villaricacc.org
SUMMARY:Children’s Ministy
DESCRIPTION:Children’s Ministy\nNursery-5th Grade
URL:https://www.villaricacc.org/calendar/childrens-ministy-61/
LOCATION:Childrens Area
CATEGORIES:All,Children,Youth
ATTACH;FMTTYPE=image/jpeg:https://www.villaricacc.org/wp-content/uploads/2014/06/412logo_373_300.jpg
END:VEVENT
BEGIN:VEVENT
DTSTART;TZID=America/New_York:20240616T140000
DTEND;TZID=America/New_York:20240616T160000
DTSTAMP:20260421T041920
CREATED:20240327T140757Z
LAST-MODIFIED:20240327T140757Z
UID:4650-1718546400-1718553600@www.villaricacc.org
SUMMARY:VRCC Chess Club
DESCRIPTION:Chess Club
URL:https://www.villaricacc.org/calendar/vrcc-chess-club-5/
LOCATION:Fellowship Hall
CATEGORIES:Adult,All,Men,Women,Youth
ATTACH;FMTTYPE=image/jpeg:https://www.villaricacc.org/wp-content/uploads/2024/01/IMG_0450.jpeg
END:VEVENT
BEGIN:VEVENT
DTSTART;TZID=America/New_York:20240623T103000
DTEND;TZID=America/New_York:20240623T113000
DTSTAMP:20260421T041920
CREATED:20240526T203005Z
LAST-MODIFIED:20240526T203005Z
UID:4729-1719138600-1719142200@www.villaricacc.org
SUMMARY:Children’s Ministy
DESCRIPTION:Children’s Ministy\nNursery-5th Grade
URL:https://www.villaricacc.org/calendar/childrens-ministy-62/
LOCATION:Childrens Area
CATEGORIES:All,Children,Youth
ATTACH;FMTTYPE=image/jpeg:https://www.villaricacc.org/wp-content/uploads/2014/06/412logo_373_300.jpg
END:VEVENT
BEGIN:VEVENT
DTSTART;TZID=America/New_York:20240630T103000
DTEND;TZID=America/New_York:20240630T113000
DTSTAMP:20260421T041920
CREATED:20240526T203019Z
LAST-MODIFIED:20240526T203019Z
UID:4731-1719743400-1719747000@www.villaricacc.org
SUMMARY:Children’s Ministy
DESCRIPTION:Children’s Ministy\nNursery-5th Grade
URL:https://www.villaricacc.org/calendar/childrens-ministy-63/
LOCATION:Childrens Area
CATEGORIES:All,Children,Youth
ATTACH;FMTTYPE=image/jpeg:https://www.villaricacc.org/wp-content/uploads/2014/06/412logo_373_300.jpg
END:VEVENT
END:VCALENDAR