BEGIN:VCALENDAR
VERSION:2.0
PRODID:-//Villa Rica Community Church - ECPv6.15.17.1//NONSGML v1.0//EN
CALSCALE:GREGORIAN
METHOD:PUBLISH
X-ORIGINAL-URL:https://www.villaricacc.org
X-WR-CALDESC:Events for Villa Rica Community Church
REFRESH-INTERVAL;VALUE=DURATION:PT1H
X-Robots-Tag:noindex
X-PUBLISHED-TTL:PT1H
BEGIN:VTIMEZONE
TZID:America/New_York
BEGIN:DAYLIGHT
TZOFFSETFROM:-0500
TZOFFSETTO:-0400
TZNAME:EDT
DTSTART:20230312T070000
END:DAYLIGHT
BEGIN:STANDARD
TZOFFSETFROM:-0400
TZOFFSETTO:-0500
TZNAME:EST
DTSTART:20231105T060000
END:STANDARD
BEGIN:DAYLIGHT
TZOFFSETFROM:-0500
TZOFFSETTO:-0400
TZNAME:EDT
DTSTART:20240310T070000
END:DAYLIGHT
BEGIN:STANDARD
TZOFFSETFROM:-0400
TZOFFSETTO:-0500
TZNAME:EST
DTSTART:20241103T060000
END:STANDARD
BEGIN:DAYLIGHT
TZOFFSETFROM:-0500
TZOFFSETTO:-0400
TZNAME:EDT
DTSTART:20250309T070000
END:DAYLIGHT
BEGIN:STANDARD
TZOFFSETFROM:-0400
TZOFFSETTO:-0500
TZNAME:EST
DTSTART:20251102T060000
END:STANDARD
END:VTIMEZONE
BEGIN:VEVENT
DTSTART;TZID=America/New_York:20240204T103000
DTEND;TZID=America/New_York:20240204T113000
DTSTAMP:20260421T060337
CREATED:20240129T190030Z
LAST-MODIFIED:20240129T193724Z
UID:4394-1707042600-1707046200@www.villaricacc.org
SUMMARY:Children’s Ministy
DESCRIPTION:Children’s Ministy\nNursery-5th Grade
URL:https://www.villaricacc.org/calendar/childrens-ministy-42/
LOCATION:Childrens Area
CATEGORIES:All,Children,Youth
ATTACH;FMTTYPE=image/jpeg:https://www.villaricacc.org/wp-content/uploads/2014/06/412logo.jpg
END:VEVENT
BEGIN:VEVENT
DTSTART;TZID=America/New_York:20240207T183000
DTEND;TZID=America/New_York:20240207T193000
DTSTAMP:20260421T060337
CREATED:20240129T190303Z
LAST-MODIFIED:20240131T021500Z
UID:4404-1707330600-1707334200@www.villaricacc.org
SUMMARY:Wednesday Night Fellowship Dinner
DESCRIPTION:Fellowship Dinner Soup & Sandwich
URL:https://www.villaricacc.org/calendar/wednesday-night-fellowship-dinner-7/
LOCATION:Fellowship Hall
CATEGORIES:Adult,All,Children,Men,Women,Youth
ATTACH;FMTTYPE=image/png:https://www.villaricacc.org/wp-content/uploads/2024/01/IMG_0455.png
END:VEVENT
BEGIN:VEVENT
DTSTART;TZID=America/New_York:20240211T103000
DTEND;TZID=America/New_York:20240211T113000
DTSTAMP:20260421T060337
CREATED:20240129T191114Z
LAST-MODIFIED:20240129T193759Z
UID:4423-1707647400-1707651000@www.villaricacc.org
SUMMARY:Children’s Ministy
DESCRIPTION:Children’s Ministy\nNursery-5th Grade
URL:https://www.villaricacc.org/calendar/childrens-ministy-43/
LOCATION:Childrens Area
CATEGORIES:All,Children,Youth
ATTACH;FMTTYPE=image/jpeg:https://www.villaricacc.org/wp-content/uploads/2014/06/412logo.jpg
END:VEVENT
BEGIN:VEVENT
DTSTART;TZID=America/New_York:20240214T183000
DTEND;TZID=America/New_York:20240214T193000
DTSTAMP:20260421T060337
CREATED:20240129T190159Z
LAST-MODIFIED:20240129T190159Z
UID:4397-1707935400-1707939000@www.villaricacc.org
SUMMARY:Wednesday night Children’s Ministy
DESCRIPTION:Children’s Wednesday Night Ministy\nNursery-5th Grade
URL:https://www.villaricacc.org/calendar/wednesday-night-childrens-ministy-10/
LOCATION:Childrens Area
CATEGORIES:All,Children,Youth
END:VEVENT
BEGIN:VEVENT
DTSTART;TZID=America/New_York:20240218T103000
DTEND;TZID=America/New_York:20240218T113000
DTSTAMP:20260421T060337
CREATED:20240129T191145Z
LAST-MODIFIED:20240129T193829Z
UID:4418-1708252200-1708255800@www.villaricacc.org
SUMMARY:Children’s Ministy
DESCRIPTION:Children’s Ministy\nNursery-5th Grade
URL:https://www.villaricacc.org/calendar/childrens-ministy-44/
LOCATION:Childrens Area
CATEGORIES:All,Children,Youth
ATTACH;FMTTYPE=image/jpeg:https://www.villaricacc.org/wp-content/uploads/2014/06/412logo.jpg
END:VEVENT
BEGIN:VEVENT
DTSTART;TZID=America/New_York:20240218T140000
DTEND;TZID=America/New_York:20240218T160000
DTSTAMP:20260421T060337
CREATED:20240129T192056Z
LAST-MODIFIED:20240129T192747Z
UID:4442-1708264800-1708272000@www.villaricacc.org
SUMMARY:VRCC Chess Club
DESCRIPTION:Chess Club
URL:https://www.villaricacc.org/calendar/vrcc-chess-club/
LOCATION:Fellowship Hall
CATEGORIES:Adult,All,Men,Women,Youth
ATTACH;FMTTYPE=image/jpeg:https://www.villaricacc.org/wp-content/uploads/2024/01/IMG_0450.jpeg
END:VEVENT
BEGIN:VEVENT
DTSTART;TZID=America/New_York:20240221T183000
DTEND;TZID=America/New_York:20240221T193000
DTSTAMP:20260421T060337
CREATED:20240129T191759Z
LAST-MODIFIED:20240129T191759Z
UID:4421-1708540200-1708543800@www.villaricacc.org
SUMMARY:Wednesday night Children’s Ministy
DESCRIPTION:Children’s Wednesday Night Ministy\nNursery-5th Grade
URL:https://www.villaricacc.org/calendar/wednesday-night-childrens-ministy-11/
LOCATION:Childrens Area
CATEGORIES:All,Children,Youth
END:VEVENT
BEGIN:VEVENT
DTSTART;TZID=America/New_York:20240225T103000
DTEND;TZID=America/New_York:20240225T113000
DTSTAMP:20260421T060337
CREATED:20240129T191314Z
LAST-MODIFIED:20240204T041126Z
UID:4422-1708857000-1708860600@www.villaricacc.org
SUMMARY:Children’s Ministy
DESCRIPTION:Children’s Ministy\nNursery-5th Grade
URL:https://www.villaricacc.org/calendar/childrens-ministy-45/
LOCATION:Childrens Area
CATEGORIES:All,Children,Youth
ATTACH;FMTTYPE=image/jpeg:https://www.villaricacc.org/wp-content/uploads/2014/06/412logo_373_300.jpg
END:VEVENT
BEGIN:VEVENT
DTSTART;TZID=America/New_York:20240228T183000
DTEND;TZID=America/New_York:20240228T193000
DTSTAMP:20260421T060337
CREATED:20240129T191818Z
LAST-MODIFIED:20240129T191818Z
UID:4440-1709145000-1709148600@www.villaricacc.org
SUMMARY:Wednesday night Children’s Ministy
DESCRIPTION:Children’s Wednesday Night Ministy\nNursery-5th Grade
URL:https://www.villaricacc.org/calendar/wednesday-night-childrens-ministy-12/
LOCATION:Childrens Area
CATEGORIES:All,Children,Youth
END:VEVENT
END:VCALENDAR